BEGIN:VCALENDAR
PRODID:-//eluceo/ical//2.0/EN
VERSION:2.0
CALSCALE:GREGORIAN
BEGIN:VEVENT
UID:b82369a50c4a0ecbaee242607252998c
DTSTAMP:20260420T175143Z
SUMMARY:7:30 pm TBE Board Meeting February 3\, 2023
DESCRIPTION:Shalom Lehigh Valley\nCommunity Calendar\nhttps://shalomlehighv
 alley.org/calendar/730-pm-tbe-board-meeting-february-3-2023-403753\n\n7:30
  pm TBE Board Meeting
DTSTART;TZID=America/New_York:20230208T193000
DTEND;TZID=America/New_York:20230208T213000
END:VEVENT
END:VCALENDAR
