BEGIN:VCALENDAR
PRODID:-//eluceo/ical//2.0/EN
VERSION:2.0
CALSCALE:GREGORIAN
BEGIN:VEVENT
UID:11de9e14772645cd90b7b623940f72e2
DTSTAMP:20260420T112809Z
SUMMARY:7:30 pm TBE Board Meeting March 2020
DESCRIPTION:Shalom Lehigh Valley\nCommunity Calendar\nhttps://shalomlehighv
 alley.org/calendar/730-pm-tbe-board-meeting-march-2020-304776\n\n7:30 pm T
 BE Board Meeting March 2020
DTSTART;TZID=America/New_York:20200311T193000
DTEND;TZID=America/New_York:20200311T213000
END:VEVENT
END:VCALENDAR
