BEGIN:VCALENDAR
PRODID:-//eluceo/ical//2.0/EN
VERSION:2.0
CALSCALE:GREGORIAN
BEGIN:VEVENT
UID:1e804e24593aaf2daf9c0f07b79b2d9a
DTSTAMP:20260419T173733Z
SUMMARY:7:30 pm TBE Board Meeting May 2021
DESCRIPTION:Shalom Lehigh Valley\nCommunity Calendar\nhttps://shalomlehighv
 alley.org/calendar/730-pm-tbe-board-meeting-may-2021-345798\n\n7:30 pm TBE
  Board Meeting May 2021
DTSTART;TZID=America/New_York:20210512T193000
DTEND;TZID=America/New_York:20210512T210000
END:VEVENT
END:VCALENDAR
