BEGIN:VCALENDAR
PRODID:-//eluceo/ical//2.0/EN
VERSION:2.0
CALSCALE:GREGORIAN
BEGIN:VEVENT
UID:d921f75a0a914a92bb5c95f7697a051a
DTSTAMP:20260420T205021Z
SUMMARY:7:30 pm TBE Board Meeting October 2020
DESCRIPTION:Shalom Lehigh Valley\nCommunity Calendar\nhttps://shalomlehighv
 alley.org/calendar/730-pm-tbe-board-meeting-october-2020-345604\n\n7:30 pm
  TBE Board Meeting October 2020
DTSTART;TZID=America/New_York:20201014T193000
DTEND;TZID=America/New_York:20201014T210000
END:VEVENT
END:VCALENDAR
