BEGIN:VCALENDAR
PRODID:-//eluceo/ical//2.0/EN
VERSION:2.0
CALSCALE:GREGORIAN
BEGIN:VEVENT
UID:354e685a6db871707f70fbe2a4fc2c4e
DTSTAMP:20260420T135434Z
SUMMARY:7:30 pm TBE Congregational Meeting June 2020
DESCRIPTION:Shalom Lehigh Valley\nCommunity Calendar\nhttps://shalomlehighv
 alley.org/calendar/730-pm-tbe-congregational-meeting-june-2020-305440\n\n7
 :30 pm TBE Congregational Meeting June 2020
DTSTART;TZID=America/New_York:20200610T193000
DTEND;TZID=America/New_York:20200610T210000
END:VEVENT
END:VCALENDAR
