BEGIN:VCALENDAR
PRODID:-//eluceo/ical//2.0/EN
VERSION:2.0
CALSCALE:GREGORIAN
BEGIN:VEVENT
UID:5b8e41d1836af6deae24e37d2d45e595
DTSTAMP:20260420T214129Z
SUMMARY:7:30 pm TBE CONSECRATION Service
DESCRIPTION:Shalom Lehigh Valley\nCommunity Calendar\nhttps://shalomlehighv
 alley.org/calendar/730-pm-tbe-consecration-service-3533\n\n7:30 pm TBE CON
 SECRATION Service
DTSTART;TZID=America/New_York:20140509T193000
DTEND;TZID=America/New_York:20140509T210000
END:VEVENT
END:VCALENDAR
