BEGIN:VCALENDAR
PRODID:-//eluceo/ical//2.0/EN
VERSION:2.0
CALSCALE:GREGORIAN
BEGIN:VEVENT
UID:3cb0df158513f1484aae4e33d8a0caf5
DTSTAMP:20260420T034724Z
SUMMARY:7:30 pm TBE Endowment Meeting
DESCRIPTION:Shalom Lehigh Valley\nCommunity Calendar\nhttps://shalomlehighv
 alley.org/calendar/730-pm-tbe-endowment-meeting-july-2016-188976\n\nContac
 t Michelle Rohrbach: michelle@bethelallentown.org or 610-435-3521.
DTSTART;TZID=America/New_York:20160727T193000
DTEND;TZID=America/New_York:20160727T210000
END:VEVENT
END:VCALENDAR
