BEGIN:VCALENDAR
PRODID:-//eluceo/ical//2.0/EN
VERSION:2.0
CALSCALE:GREGORIAN
BEGIN:VEVENT
UID:d06b5a352345cd95a3442f5625b7324e
DTSTAMP:20260420T185116Z
SUMMARY:7:30 pm TBE Endowment Meeting
DESCRIPTION:Shalom Lehigh Valley\nCommunity Calendar\nhttps://shalomlehighv
 alley.org/calendar/730-pm-tbe-endowment-meeting-oct-2016-189030\n\nContact
  Michelle Rohrbach: michelle@bethelallentown.org or 610-435-3521.
DTSTART;TZID=America/New_York:20161026T193000
DTEND;TZID=America/New_York:20161026T210000
END:VEVENT
END:VCALENDAR
