BEGIN:VCALENDAR
PRODID:-//eluceo/ical//2.0/EN
VERSION:2.0
CALSCALE:GREGORIAN
BEGIN:VEVENT
UID:f5d5aa376e133527fca0bc6d47106d44
DTSTAMP:20260419T171046Z
SUMMARY:7:30pm TBE Erev Shabbat Grade 4 and Grade 5 Led Service
DESCRIPTION:Shalom Lehigh Valley\nCommunity Calendar\nhttps://shalomlehighv
 alley.org/calendar/730-pm-tbe-erev-shabbat-grade-4-led-and-grade-5-service
 -141132\n\nContact Michelle Rohrbach: michelle@bethelallentown.org or 610-
 435-3521.
DTSTART;TZID=America/New_York:20160408T193000
DTEND;TZID=America/New_York:20160408T210000
END:VEVENT
END:VCALENDAR
