BEGIN:VCALENDAR
PRODID:-//eluceo/ical//2.0/EN
VERSION:2.0
CALSCALE:GREGORIAN
BEGIN:VEVENT
UID:fa1620b883658c82ea99635a9eae484b
DTSTAMP:20260420T094152Z
SUMMARY:7:30 pm TBE Erev Shabbat Service CONSECRATION
DESCRIPTION:Shalom Lehigh Valley\nCommunity Calendar\nhttps://shalomlehighv
 alley.org/calendar/730-pm-tbe-erev-shabbat-service-consecration-5-6-16-141
 161\n\nContact Michelle Rohrbach: michelle@bethelallentown.org or 610-435-
 3521.
DTSTART;TZID=America/New_York:20160506T193000
DTEND;TZID=America/New_York:20160506T210000
END:VEVENT
END:VCALENDAR
