BEGIN:VCALENDAR
PRODID:-//eluceo/ical//2.0/EN
VERSION:2.0
CALSCALE:GREGORIAN
BEGIN:VEVENT
UID:dfbf4350722c6601a1d04a14134ebfd4
DTSTAMP:20260419T194930Z
SUMMARY:7:30 pm TBE  Erev Shabbat Service - Siddur Ceremony
DESCRIPTION:Shalom Lehigh Valley\nCommunity Calendar\nhttps://shalomlehighv
 alley.org/calendar/730-pm-tbe-erev-shabbat-service-siddur-ceremony-5-11-18
 -225136\n\nContact Michelle Rohrbach: michelle@bethelallentown.org or 610-
 435-3521.
DTSTART;TZID=America/New_York:20180511T193000
DTEND;TZID=America/New_York:20180511T213000
END:VEVENT
END:VCALENDAR
