BEGIN:VCALENDAR
PRODID:-//eluceo/ical//2.0/EN
VERSION:2.0
CALSCALE:GREGORIAN
BEGIN:VEVENT
UID:cd8d3d90a821981b8adc6b4629a05ed8
DTSTAMP:20260422T030420Z
SUMMARY:7:30 pm TBE Executive Committee Meeting
DESCRIPTION:Shalom Lehigh Valley\nCommunity Calendar\nhttps://shalomlehighv
 alley.org/calendar/730-pm-tbe-executive-committee-meeting5-1-14-49333\n\n7
 :30 pm TBE Executive Committee Meeting
DTSTART;TZID=America/New_York:20140501T193000
DTEND;TZID=America/New_York:20140501T210000
END:VEVENT
END:VCALENDAR
