BEGIN:VCALENDAR
PRODID:-//eluceo/ical//2.0/EN
VERSION:2.0
CALSCALE:GREGORIAN
BEGIN:VEVENT
UID:010710697b77bd95eedc9003a449de11
DTSTAMP:20260419T161812Z
SUMMARY:7:30 pm TBE Fundraiser - Alias Band
DESCRIPTION:Shalom Lehigh Valley\nCommunity Calendar\nhttps://shalomlehighv
 alley.org/calendar/730-pm-tbe-fundraiser-alias-band-11-11-17-224910\n\nCon
 tact Michelle Rohrbach: michelle@bethelallentown.org or 610-435-3521.
DTSTART;TZID=America/New_York:20171111T193000
DTEND;TZID=America/New_York:20171111T223000
END:VEVENT
END:VCALENDAR
