BEGIN:VCALENDAR
PRODID:-//eluceo/ical//2.0/EN
VERSION:2.0
CALSCALE:GREGORIAN
BEGIN:VEVENT
UID:df48e6f79737bbdd48e3fda19c1993b6
DTSTAMP:20260420T185240Z
SUMMARY:7:30 pm TBE Grade 2 Service
DESCRIPTION:Shalom Lehigh Valley\nCommunity Calendar\nhttps://shalomlehighv
 alley.org/calendar/730-pm-tbe-grade-2-service-3-22-19-266029\n\nContact Mi
 chelle Rohrbach: michelle@bethelallentown.org or 610-435-3521.
DTSTART;TZID=America/New_York:20190322T193000
DTEND;TZID=America/New_York:20190322T210000
END:VEVENT
END:VCALENDAR
