BEGIN:VCALENDAR
PRODID:-//eluceo/ical//2.0/EN
VERSION:2.0
CALSCALE:GREGORIAN
BEGIN:VEVENT
UID:8d5bc2e7dd99d745c2be75781f6473ee
DTSTAMP:20260419T154937Z
SUMMARY:7:30 pm TBE Grade 2 Service
DESCRIPTION:Shalom Lehigh Valley\nCommunity Calendar\nhttps://shalomlehighv
 alley.org/calendar/730-pm-tbe-grade-2-service-3321\n\n7:30 pm TBE Grade 2 
 Service
DTSTART;TZID=America/New_York:20130412T193000
DTEND;TZID=America/New_York:20130412T203000
END:VEVENT
END:VCALENDAR
