BEGIN:VCALENDAR
PRODID:-//eluceo/ical//2.0/EN
VERSION:2.0
CALSCALE:GREGORIAN
BEGIN:VEVENT
UID:cb220f6d13c1380ad1aae524a522abef
DTSTAMP:20260419T230708Z
SUMMARY:7:30 pm TBE Scholar-in-Residence Weekend
DESCRIPTION:Shalom Lehigh Valley\nCommunity Calendar\nhttps://shalomlehighv
 alley.org/calendar/730-pm-tbe-scholar-in-residence-weekend-3531\n\n7:30 pm
  TBE Scholar-in-Residence Weekend
DTSTART;TZID=America/New_York:20140307T193000
DTEND;TZID=America/New_York:20140309T120000
END:VEVENT
END:VCALENDAR
