BEGIN:VCALENDAR
PRODID:-//eluceo/ical//2.0/EN
VERSION:2.0
CALSCALE:GREGORIAN
BEGIN:VEVENT
UID:6c2ed0bb93b315dc709585a8be3b0a35
DTSTAMP:20260421T000654Z
SUMMARY:7:30 pm TBE Sisterhood Meeting
DESCRIPTION:Shalom Lehigh Valley\nCommunity Calendar\nhttps://shalomlehighv
 alley.org/calendar/730-pm-tbe-sisterhood-meeting-2-6-19-265960\n\nContact 
 Michelle Rohrbach: michelle@bethelallentown.org or 610-435-3521.
DTSTART;TZID=America/New_York:20190206T193000
DTEND;TZID=America/New_York:20190206T210000
END:VEVENT
END:VCALENDAR
