BEGIN:VCALENDAR
PRODID:-//eluceo/ical//2.0/EN
VERSION:2.0
CALSCALE:GREGORIAN
BEGIN:VEVENT
UID:3f9d14fcf95fc955dfa77b07517dd433
DTSTAMP:20260420T033344Z
SUMMARY:7:30 pm TBE Teen Services
DESCRIPTION:Shalom Lehigh Valley\nCommunity Calendar\nhttps://shalomlehighv
 alley.org/calendar/730-pm-tbe-teen-services-378403\n\n7:30 pm TBE Youth Se
 rvice 
DTSTART;TZID=America/New_York:20220225T193000
DTEND;TZID=America/New_York:20220225T203000
END:VEVENT
END:VCALENDAR
