BEGIN:VCALENDAR
PRODID:-//eluceo/ical//2.0/EN
VERSION:2.0
CALSCALE:GREGORIAN
BEGIN:VEVENT
UID:ba33724f0ae97f9e0fe1542a5d382cad
DTSTAMP:20260419T153049Z
SUMMARY:7:30am JDS bus to the Celebrate Israel Parade - NYC
DESCRIPTION:Shalom Lehigh Valley\nCommunity Calendar\nhttps://shalomlehighv
 alley.org/calendar/730am-jds-to-the-celebrate-israel-parade-309949\n\nGrad
 es 4th-8th are invited to march in this year's Celebrate Israel Parade in 
 New York City on Sunday\, June 2nd. \n\nThe parade runs from 11:00am to 4
 :00pm on 5th Avenue from 57th Street to 74th Street. Our theme will be Isr
 aeli Innovation\, which aligns with the overall parade theme of Rak B'Yisr
 ael - Only in Israel! \n\nWe will have a bus leaving from the JDS at 7:30
 am and returning at 6:30pm. There are several ways for you\, your students
 \, and your family to participate in this incredible ...
DTSTART;TZID=America/New_York:20190602T073000
DTEND;TZID=America/New_York:20190602T183000
END:VEVENT
END:VCALENDAR
