BEGIN:VCALENDAR
PRODID:-//eluceo/ical//2.0/EN
VERSION:2.0
CALSCALE:GREGORIAN
BEGIN:VEVENT
UID:87f30a2d7e4f49def849543b88cad56f
DTSTAMP:20260420T085116Z
SUMMARY:7:30pm JCC Executive Committee Meeting
DESCRIPTION:Shalom Lehigh Valley\nCommunity Calendar\nhttps://shalomlehighv
 alley.org/calendar/730pm-executive-committee-meeting-june-341267\n\nJCC Ex
 ecutive Committee Meeting
DTSTART;TZID=America/New_York:20210513T193000
DTEND;TZID=America/New_York:20210513T210000
END:VEVENT
END:VCALENDAR
