BEGIN:VCALENDAR
PRODID:-//eluceo/ical//2.0/EN
VERSION:2.0
CALSCALE:GREGORIAN
BEGIN:VEVENT
UID:971b1d5795a063042e508d80d903d62f
DTSTAMP:20260419T173053Z
SUMMARY:7:30pm JCC Executive Committee Meeting
DESCRIPTION:Shalom Lehigh Valley\nCommunity Calendar\nhttps://shalomlehighv
 alley.org/calendar/730pm-executive-committee-meeting-nov-300794\n\nJCC Exe
 cutive Committee Meeting
DTSTART;TZID=America/New_York:20191111T193000
DTEND;TZID=America/New_York:20191111T210000
END:VEVENT
END:VCALENDAR
