BEGIN:VCALENDAR
PRODID:-//eluceo/ical//2.0/EN
VERSION:2.0
CALSCALE:GREGORIAN
BEGIN:VEVENT
UID:5a7ee37cbef8cded4ef1f91379ecf26b
DTSTAMP:20260421T004540Z
SUMMARY:7:30pm JCC Board Meeting
DESCRIPTION:Shalom Lehigh Valley\nCommunity Calendar\nhttps://shalomlehighv
 alley.org/calendar/730pm-jcc-board-meeting-d-374536\n\nJCC board meeting
DTSTART;TZID=America/New_York:20211223T193000
DTEND;TZID=America/New_York:20211223T210000
END:VEVENT
END:VCALENDAR
