BEGIN:VCALENDAR
PRODID:-//eluceo/ical//2.0/EN
VERSION:2.0
CALSCALE:GREGORIAN
BEGIN:VEVENT
UID:7c14c6b4043784a2256f066f7184a7cd
DTSTAMP:20260420T085148Z
SUMMARY:7:30 pm JCC Board of Directors Meeting
DESCRIPTION:Shalom Lehigh Valley\nCommunity Calendar\nhttps://shalomlehighv
 alley.org/calendar/730pm-jcc-board-of-directors-meeting-5-24-18-258544\n\n
 Contact Sandy Newman: snewman@lvjcc.org or 610-435-3571 x115.
DTSTART;TZID=America/New_York:20180524T193000
DTEND;TZID=America/New_York:20180524T213000
END:VEVENT
END:VCALENDAR
