BEGIN:VCALENDAR
PRODID:-//eluceo/ical//2.0/EN
VERSION:2.0
CALSCALE:GREGORIAN
BEGIN:VEVENT
UID:9b01d44a41b9ff81561c2a522afcb317
DTSTAMP:20260421T035909Z
SUMMARY:7:30 pm JCC Board of Directors Meeting
DESCRIPTION:Shalom Lehigh Valley\nCommunity Calendar\nhttps://shalomlehighv
 alley.org/calendar/730pm-jcc-board-of-directors-meeting-Dec2015-139159\n\n
 Contact Jeffrey Rembrandt: jrembrandt@lvjcc.org or 610-435-3571 x120.
DTSTART;TZID=America/New_York:20151222T193000
DTEND;TZID=America/New_York:20151222T213000
END:VEVENT
END:VCALENDAR
