BEGIN:VCALENDAR
PRODID:-//eluceo/ical//2.0/EN
VERSION:2.0
CALSCALE:GREGORIAN
BEGIN:VEVENT
UID:e9e84940a6778961aa12b3738077ec87
DTSTAMP:20260419T172754Z
SUMMARY:7:30 pm JCC Board of Directors Meeting
DESCRIPTION:Shalom Lehigh Valley\nCommunity Calendar\nhttps://shalomlehighv
 alley.org/calendar/730pm-jcc-board-of-directors-meeting-jan-feb-2019-26496
 7\n\nContact Sandy Newman: snewman@lvjcc.org or 610-435-3571 x115.
DTSTART;TZID=America/New_York:20190124T193000
DTEND;TZID=America/New_York:20190124T213000
END:VEVENT
END:VCALENDAR
