BEGIN:VCALENDAR
PRODID:-//eluceo/ical//2.0/EN
VERSION:2.0
CALSCALE:GREGORIAN
BEGIN:VEVENT
UID:0ab7a495df50276e5c7fcf4b53fd32ce
DTSTAMP:20260424T175148Z
SUMMARY:7:30PM JCC Board of Directors Meeting
DESCRIPTION:Shalom Lehigh Valley\nCommunity Calendar\nhttps://shalomlehighv
 alley.org/calendar/730pm-jcc-board-of-directors-meeting-mar-376257\n\nJCC 
 Board of Directors Meeting
DTSTART;TZID=America/New_York:20210429T193000
DTEND;TZID=America/New_York:20210429T210000
END:VEVENT
END:VCALENDAR
