BEGIN:VCALENDAR
PRODID:-//eluceo/ical//2.0/EN
VERSION:2.0
CALSCALE:GREGORIAN
BEGIN:VEVENT
UID:2ef3677cf8a6c1ba8ecdf071fb884b2f
DTSTAMP:20260420T163756Z
SUMMARY:7:30PM JCC Board of Directors Meeting
DESCRIPTION:Shalom Lehigh Valley\nCommunity Calendar\nhttps://shalomlehighv
 alley.org/calendar/730pm-jcc-board-of-directors-meeting-november-341276\n\
 nJCC Board of Directors Meeting
DTSTART;TZID=America/New_York:20201124T193000
DTEND;TZID=America/New_York:20201124T210000
END:VEVENT
END:VCALENDAR
