BEGIN:VCALENDAR
PRODID:-//eluceo/ical//2.0/EN
VERSION:2.0
CALSCALE:GREGORIAN
BEGIN:VEVENT
UID:e7967b2b299dc622a119742f1f2cfb2e
DTSTAMP:20260419T125052Z
SUMMARY:7:30 pm JCC Board of Directors Meeting
DESCRIPTION:Shalom Lehigh Valley\nCommunity Calendar\nhttps://shalomlehighv
 alley.org/calendar/730pm-jcc-board-of-directors-meeting-oct2015-139384\n\n
 Contact Jeffrey Rembrandt: jrembrandt@lvjcc.org or 610-435-3571 x120.
DTSTART;TZID=America/New_York:20151022T193000
DTEND;TZID=America/New_York:20151022T213000
END:VEVENT
END:VCALENDAR
