BEGIN:VCALENDAR
PRODID:-//eluceo/ical//2.0/EN
VERSION:2.0
CALSCALE:GREGORIAN
BEGIN:VEVENT
UID:c86ce94b9ce097c8dd970001799da54a
DTSTAMP:20260419T230933Z
SUMMARY:7:30 pm JCC Camp Committee Meeting
DESCRIPTION:Shalom Lehigh Valley\nCommunity Calendar\nhttps://shalomlehighv
 alley.org/calendar/730pm-jcc-camp-committee-meeting-9-19-17-244243\n\nCont
 act Brenda Finberg: bfinberg@lvjcc.org or 610-435-3571.
DTSTART;TZID=America/New_York:20170919T193000
DTEND;TZID=America/New_York:20170919T203000
END:VEVENT
END:VCALENDAR
