BEGIN:VCALENDAR
PRODID:-//eluceo/ical//2.0/EN
VERSION:2.0
CALSCALE:GREGORIAN
BEGIN:VEVENT
UID:9d3750e966e028f87890fe70babb2002
DTSTAMP:20260420T155338Z
SUMMARY:7:30 pm JCC Camp Committee Meeting
DESCRIPTION:Shalom Lehigh Valley\nCommunity Calendar\nhttps://shalomlehighv
 alley.org/calendar/730pm-jcc-camp-committee-meeting-Aug2015-141418\n\nCont
 act Brenda Finberg: bfinberg@lvjcc.org or 610-435-3571.
DTSTART;TZID=America/New_York:20150819T193000
DTEND;TZID=America/New_York:20150819T210000
END:VEVENT
END:VCALENDAR
