BEGIN:VCALENDAR
PRODID:-//eluceo/ical//2.0/EN
VERSION:2.0
CALSCALE:GREGORIAN
BEGIN:VEVENT
UID:83872ea14ea728e7008050b70f15fe3d
DTSTAMP:20260421T115411Z
SUMMARY:7:30 pm JCC Camp Committee Meeting
DESCRIPTION:Shalom Lehigh Valley\nCommunity Calendar\nhttps://shalomlehighv
 alley.org/calendar/730pm-jcc-camp-committee-meeting-Feb2016-141425\n\nCont
 act Brenda Finberg: bfinberg@lvjcc.org or 610-435-3571.
DTSTART;TZID=America/New_York:20160217T193000
DTEND;TZID=America/New_York:20160217T210000
END:VEVENT
END:VCALENDAR
