BEGIN:VCALENDAR
PRODID:-//eluceo/ical//2.0/EN
VERSION:2.0
CALSCALE:GREGORIAN
BEGIN:VEVENT
UID:43b25c7c86aa781b02d7fa6e6c23aea1
DTSTAMP:20260419T173515Z
SUMMARY:7:30 pm JCC Camp Committee Meeting
DESCRIPTION:Shalom Lehigh Valley\nCommunity Calendar\nhttps://shalomlehighv
 alley.org/calendar/730pm-jcc-camp-committee-meeting-March2016-141427\n\nCo
 ntact Brenda Finberg: bfinberg@lvjcc.org or 610-435-3571.
DTSTART;TZID=America/New_York:20160330T193000
DTEND;TZID=America/New_York:20160330T210000
END:VEVENT
END:VCALENDAR
