BEGIN:VCALENDAR
PRODID:-//eluceo/ical//2.0/EN
VERSION:2.0
CALSCALE:GREGORIAN
BEGIN:VEVENT
UID:b62d3d677d47e7b89c01756ab4e0b8d2
DTSTAMP:20260420T162346Z
SUMMARY:7:30pm JCC Executive Committee Meeting
DESCRIPTION:Shalom Lehigh Valley\nCommunity Calendar\nhttps://shalomlehighv
 alley.org/calendar/730pm-jcc-executive-committee-meeting-2022-416353\n\nJC
 C Executive Committee Meeting
DTSTART;TZID=America/New_York:20220907T193000
DTEND;TZID=America/New_York:20220907T203000
END:VEVENT
END:VCALENDAR
