BEGIN:VCALENDAR
PRODID:-//eluceo/ical//2.0/EN
VERSION:2.0
CALSCALE:GREGORIAN
BEGIN:VEVENT
UID:887cba90ee10234f90a3af7f205e4cda
DTSTAMP:20260419T185407Z
SUMMARY:7:30 pm JCC Stagemakers Singing in the Rain
DESCRIPTION:Shalom Lehigh Valley\nCommunity Calendar\nhttps://shalomlehighv
 alley.org/calendar/730pm-jcc-stagemakers-singing-in-the-rain-181291\n\nPri
 ce TBD. Contact Brenda Finberg: bfinberg@lvjcc.org or 610-435-3571.
DTSTART;TZID=America/New_York:20161119T193000
DTEND;TZID=America/New_York:20161119T223000
END:VEVENT
END:VCALENDAR
