BEGIN:VCALENDAR
PRODID:-//eluceo/ical//2.0/EN
VERSION:2.0
CALSCALE:GREGORIAN
BEGIN:VEVENT
UID:5cd90d99ef76667b5295f8642c3f5ec1
DTSTAMP:20260419T173851Z
SUMMARY:7:30pm JCC Virtual Jewish Film Night
DESCRIPTION:Shalom Lehigh Valley\nCommunity Calendar\nhttps://shalomlehighv
 alley.org/calendar/730pm-jcc-virtual-jewish-film-night-nov-399485\n\nMeet 
 and discuss a Jewish interest film virtually. Watch the films at your conv
 enience and then join us for the discussion. We choose films that are read
 ily available to stream online. Themes are varied: Drama\, History\, Comed
 y\, Documentary\, Contemporary.
DTSTART;TZID=America/New_York:20221115T193000
DTEND;TZID=America/New_York:20221115T210000
END:VEVENT
END:VCALENDAR
