BEGIN:VCALENDAR
PRODID:-//eluceo/ical//2.0/EN
VERSION:2.0
CALSCALE:GREGORIAN
BEGIN:VEVENT
UID:b13d0d22c2eb6d9faaf9e41b79964c91
DTSTAMP:20260421T084911Z
SUMMARY:7:30 pm JDS Board Meeting
DESCRIPTION:Shalom Lehigh Valley\nCommunity Calendar\nhttps://shalomlehighv
 alley.org/calendar/730pm-jds-board-meeting-4-25-18-238897\n\nContact Adrie
 nne Manger: amanger@jdslv.org or 610-437-0721.
DTSTART;TZID=America/New_York:20180425T193000
DTEND;TZID=America/New_York:20180425T213000
END:VEVENT
END:VCALENDAR
