BEGIN:VCALENDAR
PRODID:-//eluceo/ical//2.0/EN
VERSION:2.0
CALSCALE:GREGORIAN
BEGIN:VEVENT
UID:b4e0d6914c96f1bc6faac69b4736e374
DTSTAMP:20260419T173658Z
SUMMARY:7:30 pm JDS Board Meeting
DESCRIPTION:Shalom Lehigh Valley\nCommunity Calendar\nhttps://shalomlehighv
 alley.org/calendar/730pm-jds-board-meeting-8-17-17-238614\n\nContact Adrie
 nne Manger: amanger@jdslv.org or 610-437-0721.
DTSTART;TZID=America/New_York:20170817T193000
DTEND;TZID=America/New_York:20170817T213000
END:VEVENT
END:VCALENDAR
