BEGIN:VCALENDAR
PRODID:-//eluceo/ical//2.0/EN
VERSION:2.0
CALSCALE:GREGORIAN
BEGIN:VEVENT
UID:3dfd374009abfe0c53507d53792524d5
DTSTAMP:20260420T205041Z
SUMMARY:7:30pm JDS Board Meeting
DESCRIPTION:Shalom Lehigh Valley\nCommunity Calendar\nhttps://shalomlehighv
 alley.org/calendar/730pm-jds-board-meeting-jan2021-330204\n\nJDS Board Mee
 ting
DTSTART;TZID=America/New_York:20210121T193000
DTEND;TZID=America/New_York:20210121T213000
END:VEVENT
END:VCALENDAR
