BEGIN:VCALENDAR
PRODID:-//eluceo/ical//2.0/EN
VERSION:2.0
CALSCALE:GREGORIAN
BEGIN:VEVENT
UID:6f989d38984b8e27fb8d0afe7be81f4c
DTSTAMP:20260420T092001Z
SUMMARY:7:30pm JDS Board Meeting
DESCRIPTION:Shalom Lehigh Valley\nCommunity Calendar\nhttps://shalomlehighv
 alley.org/calendar/730pm-jds-board-meeting-oct2020-330197\n\nJDS Board Mee
 ting
DTSTART;TZID=America/New_York:20201015T193000
DTEND;TZID=America/New_York:20201015T213000
END:VEVENT
END:VCALENDAR
