BEGIN:VCALENDAR
PRODID:-//eluceo/ical//2.0/EN
VERSION:2.0
CALSCALE:GREGORIAN
BEGIN:VEVENT
UID:bc022cfd52844982cc54e854407ffa21
DTSTAMP:20260420T075043Z
SUMMARY:7:30pm JDS Exec Board Meeting
DESCRIPTION:Shalom Lehigh Valley\nCommunity Calendar\nhttps://shalomlehighv
 alley.org/calendar/730pm-jds-exec-board-meeting-may2020-330185\n\nJDS Exec
  Board Meeting
DTSTART;TZID=America/New_York:20200514T193000
DTEND;TZID=America/New_York:20200514T213000
END:VEVENT
END:VCALENDAR
