BEGIN:VCALENDAR
PRODID:-//eluceo/ical//2.0/EN
VERSION:2.0
CALSCALE:GREGORIAN
BEGIN:VEVENT
UID:59c2afd4fb60408eb6260578a88a8960
DTSTAMP:20260420T024300Z
SUMMARY:7:30 pm Stand With Us Event
DESCRIPTION:Shalom Lehigh Valley\nCommunity Calendar\nhttps://shalomlehighv
 alley.org/calendar/730pm-stand-with-us-event-2-14-17-218949\n\nCome hear t
 he stories of two inspiring young Israelis -- their struggles\, their succ
 esses\, their military service and their hopes and dreams. \n\nAsk the tou
 gh questions\, and learn what it is actually like to live in a country tha
 t is the subject of so much discussion in the media and on campus. \n\nPre
 sented by Stand With Us. This event is open to the public.
DTSTART;TZID=America/New_York:20170214T193000
DTEND;TZID=America/New_York:20170214T210000
END:VEVENT
END:VCALENDAR
