BEGIN:VCALENDAR
PRODID:-//eluceo/ical//2.0/EN
VERSION:2.0
CALSCALE:GREGORIAN
BEGIN:VEVENT
UID:b4d7442c9065d891ae9b2bec5e1053e9
DTSTAMP:20260419T231927Z
SUMMARY:7pm JDS Board Meeting
DESCRIPTION:Shalom Lehigh Valley\nCommunity Calendar\nhttps://shalomlehighv
 alley.org/calendar/7pm-jan-2023-jds-board-meeting-410835\n\nJDS Board Meet
 ing
DTSTART;TZID=America/New_York:20230103T190000
DTEND;TZID=America/New_York:20230103T210000
END:VEVENT
END:VCALENDAR
