BEGIN:VCALENDAR
PRODID:-//eluceo/ical//2.0/EN
VERSION:2.0
CALSCALE:GREGORIAN
BEGIN:VEVENT
UID:10d5659e2f46a9d95ba453bb082f1236
DTSTAMP:20260420T184937Z
SUMMARY:7pm JCC An Intimate Evening with Dr. Ruth
DESCRIPTION:Shalom Lehigh Valley\nCommunity Calendar\nhttps://shalomlehighv
 alley.org/calendar/7pm-jcc-an-intimate-evening-with-dr-ruth-350073\n\nJoin
  us as we host Dr. Ruth Westheimer for a moderated evening of questions an
 d conversation about her personal and professional life.  Visit lvjcc.or
 g/drruth for more information and to register.\n\n \n\nClick here to reg
 ister. Tickets: $36. Registration closes April 16\, 2021.\n\n \n\nSponsor
 : JCC\n\n 
DTSTART;TZID=America/New_York:20210422T193000
DTEND;TZID=America/New_York:20210422T210000
END:VEVENT
END:VCALENDAR
