BEGIN:VCALENDAR
PRODID:-//eluceo/ical//2.0/EN
VERSION:2.0
CALSCALE:GREGORIAN
BEGIN:VEVENT
UID:bc12ba2005aaa16e9266a51b916a7735
DTSTAMP:20260420T175211Z
SUMMARY:7:00 JCC Children's Committee Meeting
DESCRIPTION:Shalom Lehigh Valley\nCommunity Calendar\nhttps://shalomlehighv
 alley.org/calendar/7pm-jcc-childrens-committee-meeting-10-5-16-181214\n\nC
 ontact Brenda Finberg: bfinberg@lvjcc.org or 610-435-3571.
DTSTART;TZID=America/New_York:20161005T190000
DTEND;TZID=America/New_York:20161005T200000
END:VEVENT
END:VCALENDAR
