BEGIN:VCALENDAR
PRODID:-//eluceo/ical//2.0/EN
VERSION:2.0
CALSCALE:GREGORIAN
BEGIN:VEVENT
UID:ee2e7056204a0473e19373f637996b4b
DTSTAMP:20260419T155409Z
SUMMARY:7:00 pm JCC Come Together With Us Event
DESCRIPTION:Shalom Lehigh Valley\nCommunity Calendar\nhttps://shalomlehighv
 alley.org/calendar/7pm-jcc-come-together-with-us-127548\n\nContact Phyllis
  Kaufman at pkaufman@lvjcc.org or 610-435-3571.
DTSTART;TZID=America/New_York:20150207T190000
DTEND;TZID=America/New_York:20150207T220000
END:VEVENT
END:VCALENDAR
