BEGIN:VCALENDAR
PRODID:-//eluceo/ical//2.0/EN
VERSION:2.0
CALSCALE:GREGORIAN
BEGIN:VEVENT
UID:44c12dd513526f98375ebfbc21df5520
DTSTAMP:20260420T113022Z
SUMMARY:7:00 pm JCC Film Festival Presentation: Fever at Dawn
DESCRIPTION:Shalom Lehigh Valley\nCommunity Calendar\nhttps://shalomlehighv
 alley.org/calendar/7pm-jcc-film-festival-presentation-3-13-18-258554\n\nCo
 ntact Monica Friess at mfriess@lvjcc.org or 610-428-0140.
DTSTART;TZID=America/New_York:20180313T190000
DTEND;TZID=America/New_York:20180313T213000
END:VEVENT
END:VCALENDAR
