BEGIN:VCALENDAR
PRODID:-//eluceo/ical//2.0/EN
VERSION:2.0
CALSCALE:GREGORIAN
BEGIN:VEVENT
UID:e9d85e7e853b77a1ec5108a2abd55700
DTSTAMP:20260422T003755Z
SUMMARY:7pm JCC JFN Film Discussion
DESCRIPTION:Shalom Lehigh Valley\nCommunity Calendar\nhttps://shalomlehighv
 alley.org/calendar/7pm-jcc-jfn-film-354039\n\nJFN Film Virtual Discussion
DTSTART;TZID=America/New_York:20200707T190000
DTEND;TZID=America/New_York:20200707T210000
END:VEVENT
END:VCALENDAR
