BEGIN:VCALENDAR
PRODID:-//eluceo/ical//2.0/EN
VERSION:2.0
CALSCALE:GREGORIAN
BEGIN:VEVENT
UID:2bf0e5e624c27a7552d0fa810ea3e99f
DTSTAMP:20260419T162015Z
SUMMARY:7:00 pm JCC Membership Committee Meeting
DESCRIPTION:Shalom Lehigh Valley\nCommunity Calendar\nhttps://shalomlehighv
 alley.org/calendar/7pm-jcc-membership-committee-meeting-Feb2016-139398\n\n
 Contact Tracy Sussman: tsussman@lvjcc.org or 610-435-3571.
DTSTART;TZID=America/New_York:20160223T193000
DTEND;TZID=America/New_York:20160223T210000
END:VEVENT
END:VCALENDAR
