BEGIN:VCALENDAR
PRODID:-//eluceo/ical//2.0/EN
VERSION:2.0
CALSCALE:GREGORIAN
BEGIN:VEVENT
UID:ee0afcd5d4efa99f3be1facfc76e6ba2
DTSTAMP:20260420T192040Z
SUMMARY:7:00 pm JCC Membership Committee Meeting
DESCRIPTION:Shalom Lehigh Valley\nCommunity Calendar\nhttps://shalomlehighv
 alley.org/calendar/7pm-jcc-membership-committee-meeting-March2016-139399\n
 \nContact Tracy Sussman: tsussman@lvjcc.org or 610-435-3571
DTSTART;TZID=America/New_York:20160329T180000
DTEND;TZID=America/New_York:20160329T193000
END:VEVENT
END:VCALENDAR
