BEGIN:VCALENDAR
PRODID:-//eluceo/ical//2.0/EN
VERSION:2.0
CALSCALE:GREGORIAN
BEGIN:VEVENT
UID:0d93b556d4f9386b38ecdcdd94fef000
DTSTAMP:20260420T042540Z
SUMMARY:7:00 pm JCC Music\, Voice and Acting Recital
DESCRIPTION:Shalom Lehigh Valley\nCommunity Calendar\nhttps://shalomlehighv
 alley.org/calendar/7pm-jcc-music-voice-and-acting-recital-5-22-19-266843\n
 \nContact Brenda Finberg: bfinberg@lvjcc.org or 610-435-3571.
DTSTART;TZID=America/New_York:20190522T190000
DTEND;TZID=America/New_York:20190522T203000
END:VEVENT
END:VCALENDAR
